BEGIN:VCALENDAR
VERSION:2.0
PRODID:SchoolNow
CALSCALE:GREGORIAN
BEGIN:VEVENT
UID:85040766-3832-11ed-acff-0208e5482c83
DTSTAMP:20221021T183214Z
SUMMARY:Strategic Plan Community Forum 11-1-22
LOCATION:Soule Road Middle
URL;VALUE=URI:https://www.liverpool.k12.ny.us/schools/mrm/calendar/3414181/
 strategic-plan-community-forum-10-27-22
DTSTART:20221101T220000Z
DTEND:20221101T230000Z
END:VEVENT
END:VCALENDAR
