BEGIN:VCALENDAR
VERSION:2.0
PRODID:SchoolNow
CALSCALE:GREGORIAN
BEGIN:VEVENT
UID:40c10dc8-39aa-11ed-9552-0252cb21d9e5
DTSTAMP:20220921T123811Z
SUMMARY:Middle School Early Dismissal (10-21-22)
URL;VALUE=URI:https://www.liverpool.k12.ny.us/schools/mrm/calendar/3422452/
 middle-school-early-dismissal-10-21-22
DTSTART;VALUE=DATE:20221021
DTEND;VALUE=DATE:20221022
END:VEVENT
END:VCALENDAR
