BEGIN:VCALENDAR
VERSION:2.0
PRODID:SchoolNow
CALSCALE:GREGORIAN
BEGIN:VEVENT
UID:cb70a76c-396c-11ef-a3bd-0a58a9feac02
DTSTAMP:20240703T184810Z
SUMMARY:Holiday Recess - School Closed (12-30-24)
URL;VALUE=URI:https://www.liverpool.k12.ny.us/schools/mrm/calendar/6208172/
 holiday-recess-school-closed-12-30-24
DTSTART:20241230T194600Z
DTEND:20241230T204600Z
END:VEVENT
END:VCALENDAR
