BEGIN:VCALENDAR
VERSION:2.0
PRODID:SchoolNow
CALSCALE:GREGORIAN
BEGIN:VEVENT
UID:71c4f64c-6eb8-11ef-b9fa-0273359ca74f
DTSTAMP:20240909T143313Z
SUMMARY:Elementary Report Cards Online (3-28-25)
URL;VALUE=URI:https://www.liverpool.k12.ny.us/schools/sre/calendar/6560170/
 elementary-report-cards-online-3-28-25
DTSTART:20250328T143200Z
DTEND:20250328T153200Z
END:VEVENT
END:VCALENDAR
