BEGIN:VCALENDAR
VERSION:2.0
PRODID:SchoolNow
CALSCALE:GREGORIAN
BEGIN:VEVENT
UID:552e623a-51ce-11f0-84b1-0afffacd17e3
DTSTAMP:20250625T141148Z
SUMMARY:Paige's Pajamarama (11-21-25)
URL;VALUE=URI:https://www.liverpool.k12.ny.us/schools/sre/calendar/8352408/
 paiges-pajamarama-2025
DTSTART:20251121T150900Z
DTEND:20251121T160900Z
END:VEVENT
END:VCALENDAR
